BEGIN:VCALENDAR
VERSION:2.0
PRODID:-//Aeliés - ECPv6.15.20//NONSGML v1.0//EN
CALSCALE:GREGORIAN
METHOD:PUBLISH
X-WR-CALNAME:Aeliés
X-ORIGINAL-URL:https://aelies.ulaval.ca
X-WR-CALDESC:Évènements pour Aeliés
REFRESH-INTERVAL;VALUE=DURATION:PT1H
X-Robots-Tag:noindex
X-PUBLISHED-TTL:PT1H
BEGIN:VTIMEZONE
TZID:America/Toronto
BEGIN:DAYLIGHT
TZOFFSETFROM:-0500
TZOFFSETTO:-0400
TZNAME:EDT
DTSTART:20250309T070000
END:DAYLIGHT
BEGIN:STANDARD
TZOFFSETFROM:-0400
TZOFFSETTO:-0500
TZNAME:EST
DTSTART:20251102T060000
END:STANDARD
BEGIN:DAYLIGHT
TZOFFSETFROM:-0500
TZOFFSETTO:-0400
TZNAME:EDT
DTSTART:20260308T070000
END:DAYLIGHT
BEGIN:STANDARD
TZOFFSETFROM:-0400
TZOFFSETTO:-0500
TZNAME:EST
DTSTART:20261101T060000
END:STANDARD
BEGIN:DAYLIGHT
TZOFFSETFROM:-0500
TZOFFSETTO:-0400
TZNAME:EDT
DTSTART:20270314T070000
END:DAYLIGHT
BEGIN:STANDARD
TZOFFSETFROM:-0400
TZOFFSETTO:-0500
TZNAME:EST
DTSTART:20271107T060000
END:STANDARD
END:VTIMEZONE
BEGIN:VEVENT
DTSTART;TZID=America/Toronto:20260313T090000
DTEND;TZID=America/Toronto:20260313T160000
DTSTAMP:20260421T055624
CREATED:20251104T180424Z
LAST-MODIFIED:20260309T143141Z
UID:10000040-1773392400-1773417600@aelies.ulaval.ca
SUMMARY:Retraite de rédaction du 13 mars 2026
DESCRIPTION:L’ Association des étudiantes et des étudiants de Laval inscrits aux études supérieures (ÆLIÉS) en collaboration avec la Faculté des études supérieures et postdoctorales (FESP) et la Bibliothèque de l’Université Laval vous invitent à remplir ce formulaire pour participer à notre retraite de rédaction gratuite. \nLa retraite de rédaction du 13 mars 2026 “Et si on rédigeait” sera à la bibliothèque de l’Université Laval ( pav. J.-C.-Bonenfant\, salle 4229-BNF ). \nLa journée de rédaction commencera à 09h00 et se terminera à 16h00. Vous êtes libre de votre horaire\, c’est-à-dire que vous pouvez nous quitter en cours de journée si vos obligations l’exigent\, comme vous pouvez nous rejoindre à l’heure qui vous correspond. \nLa retraite de rédaction est un rendez-vous entre vous et votre projet de rédaction. Donnez-vous du temps de qualité. \nInscrivez-vous dès maintenant : urlr.me/zsqyMm \nNB: Les places sont limitées !
URL:https://aelies.ulaval.ca/evenement/retraite-de-redaction-du-13-mars-2026/
LOCATION:Bibliothèque de l’Université Laval ( 4229-BNF)\, Bibliothèque - Université Laval\, 2345 Rue des Bibliothèques\, Québec\, Québec\, G1V 0A6\, Canada
CATEGORIES:Et si on rédigeait !
ATTACH;FMTTYPE=image/jpeg:https://aelies.ulaval.ca/wp-content/uploads/2025/07/ESOR-e1753368052766.jpg
END:VEVENT
BEGIN:VEVENT
DTSTART;TZID=America/Toronto:20260318T160000
DTEND;TZID=America/Toronto:20260318T213000
DTSTAMP:20260421T055624
CREATED:20250925T064615Z
LAST-MODIFIED:20251127T155900Z
UID:10000020-1773849600-1773869400@aelies.ulaval.ca
SUMMARY:Rencontre du Conseil d’administration de l’AELIÉS du 18 mars 2026
DESCRIPTION:Le CA est composé d’étudiant·e·s membres de l’AELIÉS. \nChaque faculté est représentée autour de la table et le nombre de places qu’elles ont est déterminée par la leur taille. Les administrateurs\, élus pour un an\, se réunissent de façon mensuelle au Conseil d’administration de l’AELIÉS et veillent à la bonne gestion de l’association\, en occupant le double rôle d’instance politique et administrative principale de l’association. \nTous les membres de l’AELIÉS peuvent participer aux rencontres du CA en tant que personne observatrice. \nContactez le coordonnateur aux affaires institutionnelles pour avoir les informations sur la séance.
URL:https://aelies.ulaval.ca/evenement/rencontre-du-conseil-dadministration-de-laelies-du-18-mars-2026/
LOCATION:Pavillon Louis-Jacques Casault (CSL-3632)\, Pavillon Louis-Jacques-Casault (CSL) - Université Laval\, 1055 Av. du Séminaire\, Québec\, Québec\, G1V 0A6\, Canada
CATEGORIES:Conseil d'administration
ATTACH;FMTTYPE=image/webp:https://aelies.ulaval.ca/wp-content/uploads/2025/04/evenement-CA2.webp
END:VEVENT
BEGIN:VEVENT
DTSTART;VALUE=DATE:20260324
DTEND;VALUE=DATE:20260325
DTSTAMP:20260421T055624
CREATED:20260311T132604Z
LAST-MODIFIED:20260318T230454Z
UID:10000045-1774310400-1774396799@aelies.ulaval.ca
SUMMARY:7e Journée de la recherche de l’AELIÉS
DESCRIPTION:Dans le cadre de sa 7e Journée de la recherche\, l’AELIÉS invite les étudiantes et étudiants des cycles supérieurs à prendre part à une journée placée sous le thème : Faire de la recherche autrement : parcours\, réalités et sens. \nCette journée mettra en lumière la recherche comme expérience vécue\, au-delà des seuls résultats scientifiques. Elle souhaite offrir un espace interdisciplinaire de réflexion et d’échange sur les multiples manières de faire de la recherche aujourd’hui. \n\nDate : 24 mars 2026 \nHeure: de 09h à 16h30 \n\n\n\nLieu : Cercle\, Pavillon Desjardins – local 4514 \nLien du formulaire d’inscription  pour assister à la journée :  https://forms.gle/EEQNzKfbnzVWQwqZ8 \nEn complément des activités prévues\, une séance de photographie professionnelle sera offerte aux participant.e.s afin de soutenir la mise en valeur de leur parcours académique et professionnel. \nPour plus d’informations contactez : recherch@aelies.ulaval.ca et Chaire.publique@aelies.ulaval.ca \n \nPROGRAMME DE LA JOURNÉE\n08h30- 09h : Accueil et installation \n09h00–09h15 :  Mot d’ouverture \n\nMot de bienvenue de l’AELIÉS\nPrésentation de la journée\nDiscours d’ouverture\n\n09h15–10h45 : Parler de sa recherche autrement \n\nPrésentation des travaux de recherche\n5 minutes de présentation + 10 minutes d’échanges\n\n10h45–11h00 : Pause réseautage \n\nCafé et breuvages\n\n11h00–12h15 : Atelier participatif 1 \n\nEncadrement et relations de pouvoir\nSanté mentale et recherche\nFinir ou abandonner son projet de recherche ?\n\n12h15–13h00 : Dîner libre et réseautage \n13h00–14h15 : Atelier participatif 2 \n\nTraduire sa recherche en compétences\nVulgariser sa recherche sans PowerPoint\nRédiger sans s’épuiser\n\n14h20–14h40 : Recherche et bien-être \n\nActivité de relaxation (yoga)\n\n14h45–16h00 : Table ronde \nEntre attentes institutionnelles\, encadrement et réalités étudiantes : quand les attentes ne correspondent pas aux réalités vécues \nCette table ronde propose d’examiner comment certaines attentes institutionnelles et dynamiques d’encadrement influencent concrètement les parcours en recherche\, et d’identifier des stratégies pour mieux composer avec ces exigences. \n16h05–16h30 : Clôture \n\nMot de clôture et remerciements des partenaires\nRemise des mentions\nPhotos souvenirs
URL:https://aelies.ulaval.ca/evenement/7e-journee-de-la-recherche-de-laelies-faire-de-la-recherche-autrement-parcours-realites-et-sens/
LOCATION:Pavillon Alphonse-Desjardins (Salle Cercle\, ADJ 4514)\, 2325 Rue de l'Université\, Québec\, Québec\, G1V 0A6\, Canada
CATEGORIES:Événement divers
ATTACH;FMTTYPE=image/jpeg:https://aelies.ulaval.ca/wp-content/uploads/2026/03/7e-journee-recherche-1-scaled-e1772577204199.jpg
END:VEVENT
BEGIN:VEVENT
DTSTART;TZID=America/Toronto:20260328T103000
DTEND;TZID=America/Toronto:20260328T153000
DTSTAMP:20260421T055624
CREATED:20251104T180506Z
LAST-MODIFIED:20260320T194104Z
UID:10000041-1774693800-1774711800@aelies.ulaval.ca
SUMMARY:Retraite de rédaction du 28 mars 2026
DESCRIPTION:L’ Association des étudiantes et des étudiants de Laval inscrits aux études supérieures (ÆLIÉS) en collaboration avec la Faculté des études supérieures et postdoctorales (FESP) et la Bibliothèque de l’Université Laval vous invitent à remplir ce formulaire pour participer à notre retraite de rédaction gratuite. \nLa retraite de rédaction du 28 mars 2026 “Et si on rédigeait” sera à la bibliothèque de l’Université Laval ( pav. J.-C.-Bonenfant\, salle 4229-BNF ). \nLa journée de rédaction commencera à 10h30 et se terminera à 15h30. Vous êtes libre de votre horaire\, c’est-à-dire que vous pouvez nous quitter en cours de journée si vos obligations l’exigent\, comme vous pouvez nous rejoindre à l’heure qui vous correspond. \nLa retraite de rédaction est un rendez-vous entre vous et votre projet de rédaction. Donnez-vous du temps de qualité. \nInscrivez-vous dès maintenant\, les places sont limitées ! \nLien d’inscription: https://forms.gle/bXhTRsKy7QKbFgCc7
URL:https://aelies.ulaval.ca/evenement/retraite-de-redaction-du-28-mars-2026/
LOCATION:Bibliothèque de l’Université Laval ( 4229-BNF)\, Bibliothèque - Université Laval\, 2345 Rue des Bibliothèques\, Québec\, Québec\, G1V 0A6\, Canada
CATEGORIES:Et si on rédigeait !
ATTACH;FMTTYPE=image/jpeg:https://aelies.ulaval.ca/wp-content/uploads/2025/07/ESOR-e1753368052766.jpg
END:VEVENT
END:VCALENDAR